BEGIN:VCALENDAR
VERSION:2.0
PRODID:-//Eventin//Event Calendar//EN
CALSCALE:GREGORIAN
METHOD:PUBLISH
BEGIN:VEVENT
UID:2c5c1aa2627df67e63d55a4ac0460900@eastonbjj.com
SUMMARY:Easton Centennial 2026 Kids Summer Camp Session 1: June 22nd – 26
 th
DESCRIPTION:🥋☀️ Summer Martial Arts Camp at Easton Training Center 
 – Centennial\nGet ready for an unforgettable week of movement\, confidenc
 e\, and FUN!\nOur Summer Camp is the perfect blend of high-energy play and 
 skill-building martial arts\, led by our enthusiastic\, experienced instruc
 tors who know how to keep kids engaged\, supported\, and smiling all day lo
 ng.\nWhat kids will experience:\n\n\n🥋 Brazilian Jiu-Jitsu to build coor
 dination\, body awareness\, and problem-solving\n\n\n🥊 Muay Thai to impr
 ove balance\, agility\, and confidence\n\n\n🎯 Technique-based drills\, e
 xciting games\, and daily challenges\n\n\n🎉 A special activity each day\
 , led by our top-notch instructors\n\n\n🌎 A fun introduction to martial 
 arts culture—including a little Portuguese and Thai!\n\n\nBeyond the phys
 ical skills\, we focus on what really matters:respect\, self-discipline\, t
 eamwork\, and confidence—core values that carry far beyond the mats.\n\n
 📅 Camp Details\nDates: June 22–26Ages: 4–12\nSchedule Options:\n\n\n
 Full Day: 9:00 AM – 3:00 PM\n\n\nHalf Day:\n\n\nMorning: 9:00 AM – 12:0
 0 PM\n\n\nAfternoon: 12:00 PM – 3:00 PM\n\n\n\n\nWe provide snacks\, equi
 pment\, martial arts instruction\, and structured activities—just pack:\n
 \n\nPlay clothes\n\n\nAny snacks for dietary restrictions\n\n\nA lunch for 
 full-day campers\n\n\n\n⏰ Pick-Up Policy\nTimely pick-up is important so 
 our instructors can prepare for evening classes.\n\n\n15-minute grace perio
 d\n\n\n$30 late pick-up fee after that\n\n\n\n❗ Registration & Refund Pol
 icy\n\n\nSessions require a minimum of 10 campers (confirmed two days befor
 e start date)\n\n\nIf minimum isn’t met\, the session will be canceled an
 d fully refunded\n\n\nFull refunds are also available for cancellations mad
 e at least 24 hours before camp begins\n\n\n\n📞 Questions?\nEmail centen
 nial@eastontc.com or call 720-998-5795Learn more about our kids’ programs
 : eastonbjj.com/kids-martial-arts/
LOCATION:Easton Training Centennial 
DTSTAMP:20260422T090608Z
DTSTART:20260622T160000Z
DTEND:20260626T220000Z
END:VEVENT
END:VCALENDAR
