BEGIN:VCALENDAR
VERSION:2.0
PRODID:-//Eventin//Event Calendar//EN
CALSCALE:GREGORIAN
METHOD:PUBLISH
BEGIN:VEVENT
UID:de7c2c2ee82aef528efee46cb6addcb7@eastonbjj.com
SUMMARY:Easton Longmont Kids Summer Camp 2026 (June 8th-12th)
DESCRIPTION:KIDS WILL HAVE A BLAST LEARNING BRAZILIAN JIU JITSU AND MUAY TH
 AI TECHNIQUES WITH OUR ENTHUSIASTIC and EXPERIENCED INSTRUCTORS!\nBRAZILIAN
  JIU JITSU IS A GRAPPLING-BASED MARTIAL ART\, EXCELLENT FOR BUILDING COORDI
 NATION AND BODY AWARENESS. MUAY THAI IS A STYLE OF KICKBOXING BORN IN THAIL
 AND\, AND IS GREAT FOR BALANCE. IN ADDITION TO PHYSICAL SKILLS\, OUR PROGRA
 M EMPHASIZES THE MARTIAL ARTS VALUES OF RESPECT\, SELF-DISCIPLINE\, AND CON
 FIDENCE.\nIn addition to the martial arts skills they’ll build throughout
  the day\, kids can expect tons of exciting games and technique-based drill
 s led by their coaches. Every day we have a mix of martial arts disciplines
  and camp activities\, and we can’t wait to have you join us! Half day ca
 mps will run from 9:00 AM – 12:00 PM  Choose any number of days during t
 he week of the session you select\, up to 4 days. FAQs What is the age rang
 e for this camp? Kids 4-12 years old Kids will be split into age groups of 
 4-6\, 7-10\, and 10+ What should my child bring? Play clothes\, snacks if y
 our child has dietary restrictions.  How can I contact the organizer with 
 any questions? Please email us at longmont@eastontc.com or call 720-731-265
 5. To learn more about our kids’ martial arts program\, please visit east
 onbjj.com/kids-martial-arts/ What’s the refund policy? If any camp sessio
 n fails to meet a minimum of 10 registered campers 30 days prior to the cam
 p start date\, we will cancel the session\, and provide a full refund. We w
 ill also offer full refunds for camp reservations canceled 1 full week in a
 dvance of the camp start date.
LOCATION:Easton Training Center Longmont\, 2415 Wedgewood Ave\, Longmont\, 
 CO 80503
DTSTAMP:20260420T153920Z
DTSTART:20260608T150000Z
DTEND:20260612T180000Z
END:VEVENT
END:VCALENDAR
