BEGIN:VCALENDAR
VERSION:2.0
PRODID:-//Eventin//Event Calendar//EN
CALSCALE:GREGORIAN
METHOD:PUBLISH
BEGIN:VEVENT
UID:808e2e709f7f605a446995f4eae2bacc@eastonbjj.com
SUMMARY:Easton Littleton Kids Summer Camp 2026: Session II (July 13th- July
  17th)
DESCRIPTION:At Easton Littleton Summer Camp\, kids dive into an action-pack
 ed experience that blends martial arts training with fun\, friendship\, and
  personal growth. Our supportive\, high-energy instructors guide campers th
 rough engaging activities designed to improve coordination\, focus\, and te
 amwork. Along the way\, children will explore important life skills like pe
 rseverance\, respect\, and self-confidence. Make sure  to bring a gi and w
 ear your athletic clothing\, as we will be warming up with some Jiu Jitsu 
 in the morning before games and Nerf wars!\n \nTigers will rotate through 
 a variety of creative and active stations\, including arts and crafts\, gro
 up sports\, and interactive team challenges that inspire leadership and coo
 peration. Each day is filled with high-energy games such as Nerf battles\, 
 dodgeball\, and adventurous scavenger hunts—so there’s never a dull mom
 ent! Snacks will be provided throughout the day. On our final day of camp\,
  we will serve pizza along with a movie on the mats!\n \nCamp takes place 
 daily from 8:00 AM to 12:00 PM.\n \nRegistration & Attendance Options:\nFa
 milies may register for individual days or a full 5-day week. Please expect
  a check-in and check-out process. To ensure a smooth and speedy check-in\,
  we ask that all non-members complete the online waiver prior to their chil
 d’s first day of camp.
LOCATION:5066 S Wadsworth Blvd Unit 117
DTSTAMP:20260420T154100Z
DTSTART:20260713T140000Z
DTEND:20260717T180000Z
END:VEVENT
END:VCALENDAR
