BEGIN:VCALENDAR
VERSION:2.0
PRODID:-//Eventin//Event Calendar//EN
CALSCALE:GREGORIAN
METHOD:PUBLISH
BEGIN:VEVENT
UID:9b391dd7c5e0d96e24571fd774609089@eastonbjj.com
SUMMARY:Easton Denver Kids Summer Camp 2026: June 15-19
DESCRIPTION:Kids will have a blast learning some Brazilian Jiu-Jitsu and Mu
 ay Thai techniques with our enthusiastic\, experienced instructors. Brazili
 an Jiu-Jitsu is a grappling-based martial art\, excellent for building coor
 dination and body awareness. Muay Thai is a style of Kickboxing born in Tha
 iland and is great for balance. In addition to physical skills\, our progra
 m emphasizes the martial arts values of respect\, self-discipline\, and con
 fidence. In addition to some martial arts skills they'll build throughout t
 he day\, kids can expect tons of exciting games\, including Nerf Wars and D
 odgeball as well as some technique-based drills led by their coaches. We'll
  be reinforcing social values and even learning a little Portuguese. \n\n\n
 \nFull-day camps will run from 9:00 AM - 3:00 PM\n\n\n\nHalf-day camps will
  run from 9:00 AM - 12:00 PM or 12:00 PM - 3:00 PM\n\n\n\nExpect a check-in
  and check-out process. Choose between single-day and 5-day reservations. I
 n order to expedite the check-in process non-members please make sure to fi
 ll out our online waiver before bringing your child in for camp.
LOCATION:1304 S. Santa Fe Dr. Denver\, CO 80223
DTSTAMP:20260420T171857Z
DTSTART:20260615T150000Z
DTEND:20260619T210000Z
END:VEVENT
END:VCALENDAR
