BEGIN:VCALENDAR
VERSION:2.0
PRODID:-//Eventin//Event Calendar//EN
CALSCALE:GREGORIAN
METHOD:PUBLISH
BEGIN:VEVENT
UID:a0686f715669ed22f03564292b240484@eastonbjj.com
SUMMARY:Easton Castle Rock Kids Summer Camp (June 22nd-26th)
DESCRIPTION:YOUR KIDS WILL HAVE A BLAST LEARNING BRAZILIAN JIU JITSU AND MU
 AY THAI TECHNIQUES WITH OUR ENTHUSIASTIC\, EXPERIENCED INSTRUCTORS!\n\n\n\n
 \n\n\n\n\nBRAZILIAN JIU JITSU IS A GRAPPLING-BASED MARTIAL ART\, EXCELLENT 
 FOR BUILDING COORDINATION AND BODY AWARENESS. IN ADDITION TO PHYSICAL SKILL
 S\, OUR PROGRAM EMPHASIZES THE MARTIAL ARTS VALUES OF RESPECT\, SELF-DISCIP
 LINE\, AND CONFIDENCE.\n \n\nIn addition to the martial arts skills they
 ’ll build throughout the day\, kids can expect tons of exciting games and
  technique-based drills led by their coaches. Every day we have a mix of ma
 rtial arts disciplines and camp activities\, and we can’t wait to have yo
 u join us!\n \nFull day camps will run from 9:00 AM – 3:00 PM\n \nChoos
 e between 5-day and single day reservations!\n \nInfo on using single-day 
 camp reservation:\nChoose any number of days during the week of the session
  you select\, up to 4 days.  \n \nFAQs\nWhat is the age range for this ca
 mp?\nKids 4-13 years old\n \nWhat should my child bring?\nPlay clothes\, s
 nacks if your child has dietary restrictions. Bring a lunch if your child i
 s registered for the full-day camps.\n \nWhat do we provide?\nSnacks\, equ
 ipment\, phenomenal martial arts instruction and activities.\n \nHow can I
  contact the organizer with any questions?\nPlease email us at castlerockad
 min@eastontc.com or call/text 720-510-3879\nTo learn more about our kids’
  martial arts program\, please visit eastonbjj.com/kids-martial-arts/\n \n
 What’s the refund policy?\nIf any camp session fails to meet a minimum of
  10 registered campers 30 days prior to the camp start date\, we will cance
 l the session\, and provide a full refund. We will also offer full refunds 
 for camp reservations canceled 1 full week in advance of the camp start dat
 e.
LOCATION:Easton Training Center - Castle Rock
DTSTAMP:20260420T140611Z
DTSTART:20260622T160000Z
DTEND:20260626T220000Z
END:VEVENT
END:VCALENDAR
